BEGIN:VCALENDAR
PRODID:-//kirchenweb.ch gmbh//veranstaltungsausgabe v2.0//DE
VERSION:2.0
METHOD:PUBLISH
BEGIN:VEVENT
DTSTART:20260829T113000Z
DTEND:20260829T130000Z
LOCATION:Kirche\, \,  Betschwanden
TRANSP:OPAQUE
SEQUENCE:0
UID:26068-veranstaltung@ref-gl.ch
DTSTAMP:20250605T153256Z
DESCRIPTION:Trauung von Nadine Leuzinger & Sven Keller.\n\nKontakt: folgt
 \n\nWeitere Infos: https://www.ref-gl.ch/veranstaltung/26068
SUMMARY:Trauung
PRIORITY:5
X-MICROSOFT-CDO-IMPORTANCE:1
CLASS:PUBLIC
END:VEVENT
END:VCALENDAR
