BEGIN:VCALENDAR
PRODID:-//kirchenweb.ch gmbh//veranstaltungsausgabe v2.0//DE
VERSION:2.0
METHOD:PUBLISH
BEGIN:VEVENT
DTSTART:20260506T121500Z
DTEND:20260506T143000Z
LOCATION:Pfarrhaus Saal\, Hauptstrasse 24\, 8777 Betschwanden
TRANSP:OPAQUE
SEQUENCE:0
UID:26372-veranstaltung@ref-gl.ch
DTSTAMP:20250618T081133Z
DESCRIPTION:Theaterprobe mi dem Theater Bruderboot\n\nKontakt:
  marina.allenspach@ref-gl.ch\n\nWeitere Infos:
  https://www.ref-gl.ch/veranstaltung/26372
SUMMARY:Theaterprobe 3./4. Klasse Primar
PRIORITY:5
X-MICROSOFT-CDO-IMPORTANCE:1
CLASS:PUBLIC
END:VEVENT
END:VCALENDAR
