BEGIN:VCALENDAR
PRODID:-//kirchenweb.ch gmbh//veranstaltungsausgabe v2.0//DE
VERSION:2.0
METHOD:PUBLISH
BEGIN:VEVENT
DTSTART:20260527T121500Z
DTEND:20260527T143000Z
LOCATION:Pfarrhaus Saal\, Hauptstrasse 24\, 8777 Betschwanden
TRANSP:OPAQUE
SEQUENCE:0
UID:26374-veranstaltung@ref-gl.ch
DTSTAMP:20250618T081226Z
DESCRIPTION:Theaterprobe mi dem Theater Bruderboot\n\nKontakt:
  marina.allenspach@ref-gl.ch\n\nWeitere Infos:
  https://www.ref-gl.ch/veranstaltung/26374
SUMMARY:Theaterprobe 1.-4. Primar
PRIORITY:5
X-MICROSOFT-CDO-IMPORTANCE:1
CLASS:PUBLIC
END:VEVENT
END:VCALENDAR
