BEGIN:VCALENDAR
PRODID:-//kirchenweb.ch gmbh//veranstaltungsausgabe v2.0//DE
VERSION:2.0
METHOD:PUBLISH
BEGIN:VEVENT
DTSTART:20260424T163500Z
DTEND:20260424T190000Z
LOCATION:Kirchgemeindehaus\, \,  Linthal
TRANSP:OPAQUE
SEQUENCE:0
UID:26410-veranstaltung@ref-gl.ch
DTSTAMP:20251023T094453Z
DESCRIPTION:Jugend-Gottesdienst mit Pfrn. Manja Pietzcker.\nAnschliessend
  gemütliches Beisammensein im Jugendraum\n\nKontakt: Manja Pietzcker\n
 \nWeitere Infos: https://www.ref-gl.ch/veranstaltung/26410
SUMMARY:Jugend-Gottesdienst
PRIORITY:5
X-MICROSOFT-CDO-IMPORTANCE:1
CLASS:PUBLIC
END:VEVENT
END:VCALENDAR
