BEGIN:VCALENDAR
PRODID:-//kirchenweb.ch gmbh//veranstaltungsausgabe v2.0//DE
VERSION:2.0
METHOD:PUBLISH
BEGIN:VEVENT
DTSTART:20260704T160000Z
DTEND:20260704T170000Z
LOCATION:Reformierte Kirche\, \, 8775 Luchsingen
TRANSP:OPAQUE
SEQUENCE:0
UID:27269-veranstaltung@ref-gl.ch
DTSTAMP:20260324T110227Z
DESCRIPTION:Abend-Gottesdienst in der reformierten Kirche Luchsingen.
 \nAnschliessend laden wir sie zu Brot und Käse ein.\n\nKontakt: Diakon
  Michael Geiler\, Schwerzenbach\n\nWeitere Infos:
  https://www.ref-gl.ch/veranstaltung/27269
SUMMARY:Abend-Gottesdienst
PRIORITY:5
X-MICROSOFT-CDO-IMPORTANCE:1
CLASS:PUBLIC
END:VEVENT
END:VCALENDAR
