BEGIN:VCALENDAR
PRODID:-//kirchenweb.ch gmbh//veranstaltungsausgabe v2.0//DE
VERSION:2.0
METHOD:PUBLISH
BEGIN:VEVENT
DTSTART:20260523T160000Z
DTEND:20260523T170000Z
LOCATION:Kirche \, \, 8775 Betschwanden
TRANSP:OPAQUE
SEQUENCE:0
UID:27296-veranstaltung@ref-gl.ch
DTSTAMP:20260317T082620Z
DESCRIPTION:Fest-Gottesdienst zu Pfingsten mit Abendmahl.\n\nKontakt:
  Manja Pietzcker\n\nWeitere Infos:
  https://www.ref-gl.ch/veranstaltung/27296
SUMMARY:Fest-Gottesdienst zu Pfingsten
PRIORITY:5
X-MICROSOFT-CDO-IMPORTANCE:1
CLASS:PUBLIC
END:VEVENT
END:VCALENDAR
