BEGIN:VCALENDAR
PRODID:-//kirchenweb.ch gmbh//veranstaltungsausgabe v2.0//DE
VERSION:2.0
METHOD:PUBLISH
BEGIN:VEVENT
DTSTART:20260920T090000Z
DTEND:20260920T100000Z
LOCATION:Bei oder in der Dorfkirche\, \, 8784 Braunwald
TRANSP:OPAQUE
SEQUENCE:0
UID:27297-veranstaltung@ref-gl.ch
DTSTAMP:20260216T200647Z
DESCRIPTION:Ökumenischer Gottesdienst bei oder in der Dorfkirche
  Braunwald. Mit Pfrn. Manja Pietzcker und Religionspädagoge Marco
  Bechtiger.\nHerzlich Willkommen!\nAnschliessend laden wir Sie zum Apéro
  ein.\n\nKontakt: Manja Pietzcker und Religionspädagoge Marco Bechtiger\n
 \nWeitere Infos: https://www.ref-gl.ch/veranstaltung/27297
SUMMARY:Ökumenischer Bettags-Gottesdienst
PRIORITY:5
X-MICROSOFT-CDO-IMPORTANCE:1
CLASS:PUBLIC
END:VEVENT
END:VCALENDAR
