BEGIN:VCALENDAR
PRODID:-//kirchenweb.ch gmbh//veranstaltungsausgabe v2.0//DE
VERSION:2.0
METHOD:PUBLISH
BEGIN:VEVENT
DTSTART:20261004T084500Z
DTEND:20261004T100000Z
LOCATION:Chilbiplatz \, \, 8775 Luchsingen
TRANSP:OPAQUE
SEQUENCE:0
UID:27298-veranstaltung@ref-gl.ch
DTSTAMP:20260105T074643Z
DESCRIPTION:Ökumenischer Chilbi-Gottesdienst mit musikalischer Umrahmung
  an der Chilbi Luchsingen. Mit Pfrn. Manja Pietzcker und Pfarreirat Ignaz
  Kalberer.\nHerzlich Willkommen.\nAnschliessend laden wir Sie zum
  Platzkonzert und Apèro ein.\n\nKontakt: Manja Pietzcker und Pfarreirat
  Ignaz Kalberer\n\nWeitere Infos:
  https://www.ref-gl.ch/veranstaltung/27298
SUMMARY:Ökumenischer Chilbi-Gottesdienst
PRIORITY:5
X-MICROSOFT-CDO-IMPORTANCE:1
CLASS:PUBLIC
END:VEVENT
END:VCALENDAR
