BEGIN:VCALENDAR
PRODID:-//kirchenweb.ch gmbh//veranstaltungsausgabe v2.0//DE
VERSION:2.0
METHOD:PUBLISH
BEGIN:VEVENT
DTSTART:20260726T090000Z
DTEND:20260726T100000Z
LOCATION:Oberblegisee\, \,
TRANSP:OPAQUE
SEQUENCE:0
UID:27300-veranstaltung@ref-gl.ch
DTSTAMP:20260105T074431Z
DESCRIPTION:Ökumenischer Berg-Gottesdienst am Oberbelgisee mir Pfrn.
  Manja Pietzcker und Pfarreirat Ignaz Kalberer.\nAnschliessend Alpapéro
  bei Familie Weber\, Unterstafel.\nBei Regenwetter findet der Gottesdienst
  in der reformierten Kirche Luchsingen statt.\n\nKontakt: Manja Pietzcker
  und Pfarreirat Ignaz Kalberer\n\nWeitere Infos:
  https://www.ref-gl.ch/veranstaltung/27300
SUMMARY:Ökumenischer Gottesdienst am Oberblegisee
PRIORITY:5
X-MICROSOFT-CDO-IMPORTANCE:1
CLASS:PUBLIC
END:VEVENT
END:VCALENDAR
