BEGIN:VCALENDAR
PRODID:-//kirchenweb.ch gmbh//veranstaltungsausgabe v2.0//DE
VERSION:2.0
METHOD:PUBLISH
BEGIN:VEVENT
DTSTART:20260422T080000Z
DTEND:20260422T083000Z
LOCATION:Altersheim Linthal\, Glarus Süd Care\, Hauptstrasse 38\, 8783
  Linthal
TRANSP:OPAQUE
SEQUENCE:0
UID:27785-veranstaltung@ref-gl.ch
DTSTAMP:20260219T094254Z
DESCRIPTION:Wochen-Gottesdienst im Altersheim Linthal\, Glarus Süd Care.
  Es sind alle Interessierten herzlich Willkommen\, ob Bewohner des
  Altersheims oder "Auswärtige".\nPfrn. Manja Pietzcker freut sich auf Ihr
  Kommen. \n\nKontakt: Manja Pietzcker\n\nWeitere Infos:
  https://www.ref-gl.ch/veranstaltung/27785
SUMMARY:Wochen-Gottesdienst
PRIORITY:5
X-MICROSOFT-CDO-IMPORTANCE:1
CLASS:PUBLIC
END:VEVENT
END:VCALENDAR
