BEGIN:VCALENDAR
PRODID:-//kirchenweb.ch gmbh//veranstaltungsausgabe v2.0//DE
VERSION:2.0
METHOD:PUBLISH
BEGIN:VEVENT
DTSTART:20260429T113000Z
DTEND:20260429T150000Z
LOCATION:Kirchgemeindehaus \, \, 8783 Linthal
TRANSP:OPAQUE
SEQUENCE:0
UID:29268-veranstaltung@ref-gl.ch
DTSTAMP:20260317T074205Z
DESCRIPTION:Basteln für Kinder der 1. - 6. Klasse der Kirchgemeinde
  Grosstal im Kirchgemeindehaus Linthal. Kosten: CHF 18.00 pro Kind.
  Anmeldungen an Brigitte Ender: Per WhatsApp 079 412 33 45 oder per Email
  brigitteender5269@gmail.com.\n\nKontakt: marina.allenspach@ref-gl.ch\n
 \nWeitere Infos: https://www.ref-gl.ch/veranstaltung/29268
SUMMARY:Muttertagsbasteln
PRIORITY:5
X-MICROSOFT-CDO-IMPORTANCE:1
CLASS:PUBLIC
END:VEVENT
END:VCALENDAR
