BEGIN:VCALENDAR
PRODID:-//kirchenweb.ch gmbh//veranstaltungsausgabe v2.0//DE
VERSION:2.0
METHOD:PUBLISH
BEGIN:VEVENT
DTSTART:20260513T100000Z
DTEND:20260513T120000Z
LOCATION:Restaurant "Pizza\,Pasta\,Pierino"\, Ennetlintherstr. 78\, 8783
  Linthal
TRANSP:OPAQUE
SEQUENCE:0
UID:29337-veranstaltung@ref-gl.ch
DTSTAMP:20260326T170655Z
DESCRIPTION:Senioren-Mittagessen "Braunwald"  im Restaurant
  "Pizza\,Pasta\,Pierino" in Linthal.\nAnmeldungen bis am Sonntagmittag 10.
  Mai 2026 an Andrea Rickenbach\, Telefon 079 589 61 60.\n\nKontakt:
  marina.allenspach@ref-gl.ch\n\nWeitere Infos:
  https://www.ref-gl.ch/veranstaltung/29337
SUMMARY:Senioren-Mittagessen "Braunwald"
PRIORITY:5
X-MICROSOFT-CDO-IMPORTANCE:1
CLASS:PUBLIC
END:VEVENT
END:VCALENDAR
