BEGIN:VCALENDAR
PRODID:-//kirchenweb.ch gmbh//veranstaltungsausgabe v2.0//DE
VERSION:2.0
METHOD:PUBLISH
BEGIN:VEVENT
DTSTART:20260618T180000Z
DTEND:20260618T193000Z
LOCATION:Pfarrhaus\, Hauptstrasse 24\, 8777 Betschwanden
TRANSP:OPAQUE
SEQUENCE:0
UID:29408-veranstaltung@ref-gl.ch
DTSTAMP:20260420T081056Z
DESCRIPTION:Kirchgemeindeversammlung 2026\nTraktenden folgen.\n\nKontakt:
  marina.allenspach@ref-gl.ch\n\nWeitere Infos:
  https://www.ref-gl.ch/veranstaltung/29408
SUMMARY:Kirchgemeindeversammlung 2026
PRIORITY:5
X-MICROSOFT-CDO-IMPORTANCE:1
CLASS:PUBLIC
END:VEVENT
END:VCALENDAR
